BEGIN:VCALENDAR
VERSION:2.0
PRODID:-//Wight Karting - ECPv6.15.20//NONSGML v1.0//EN
CALSCALE:GREGORIAN
METHOD:PUBLISH
X-WR-CALNAME:Wight Karting
X-ORIGINAL-URL:https://www.wightkarting.co.uk
X-WR-CALDESC:Events for Wight Karting
REFRESH-INTERVAL;VALUE=DURATION:PT1H
X-Robots-Tag:noindex
X-PUBLISHED-TTL:PT1H
BEGIN:VTIMEZONE
TZID:UTC
BEGIN:STANDARD
TZOFFSETFROM:+0000
TZOFFSETTO:+0000
TZNAME:UTC
DTSTART:20220101T000000
END:STANDARD
END:VTIMEZONE
BEGIN:VEVENT
DTSTART;TZID=UTC:20230727T090000
DTEND;TZID=UTC:20230727T111500
DTSTAMP:20260420T032647
CREATED:20230320T130821Z
LAST-MODIFIED:20230320T130910Z
UID:139491-1690448400-1690456500@www.wightkarting.co.uk
SUMMARY:Junior Track Days 8-15yr olds
DESCRIPTION:
URL:https://www.wightkarting.co.uk/event-details/junior-track-days-8-15yr-olds-18/
LOCATION:Wight Karting\, Brading Rd\, Ryde\, Isle of Wight\, PO33 1QS\, United Kingdom
CATEGORIES:Kids Track Days
ATTACH;FMTTYPE=image/webp:https://www.wightkarting.co.uk/wp-content/uploads/2023/01/Artboard-1-1.webp
ORGANIZER;CN="Wight Karting Team":MAILTO:info@wightkarting.co.uk
END:VEVENT
BEGIN:VEVENT
DTSTART;TZID=UTC:20230725T090000
DTEND;TZID=UTC:20230725T111500
DTSTAMP:20260420T032647
CREATED:20230320T130805Z
LAST-MODIFIED:20230320T130805Z
UID:139489-1690275600-1690283700@www.wightkarting.co.uk
SUMMARY:Junior Track Days 8-15yr olds
DESCRIPTION:
URL:https://www.wightkarting.co.uk/event-details/junior-track-days-8-15yr-olds-17/
LOCATION:Wight Karting\, Brading Rd\, Ryde\, Isle of Wight\, PO33 1QS\, United Kingdom
CATEGORIES:Kids Track Days
ATTACH;FMTTYPE=image/webp:https://www.wightkarting.co.uk/wp-content/uploads/2023/01/Artboard-1-1.webp
ORGANIZER;CN="Wight Karting Team":MAILTO:info@wightkarting.co.uk
END:VEVENT
BEGIN:VEVENT
DTSTART;TZID=UTC:20230724T090000
DTEND;TZID=UTC:20230724T111500
DTSTAMP:20260420T032647
CREATED:20230320T130741Z
LAST-MODIFIED:20230320T130741Z
UID:139487-1690189200-1690197300@www.wightkarting.co.uk
SUMMARY:Junior Track Days 8-15yr olds
DESCRIPTION:
URL:https://www.wightkarting.co.uk/event-details/junior-track-days-8-15yr-olds-16/
LOCATION:Wight Karting\, Brading Rd\, Ryde\, Isle of Wight\, PO33 1QS\, United Kingdom
CATEGORIES:Kids Track Days
ATTACH;FMTTYPE=image/webp:https://www.wightkarting.co.uk/wp-content/uploads/2023/01/Artboard-1-1.webp
ORGANIZER;CN="Wight Karting Team":MAILTO:info@wightkarting.co.uk
END:VEVENT
BEGIN:VEVENT
DTSTART;TZID=UTC:20230624T153000
DTEND;TZID=UTC:20230624T180000
DTSTAMP:20260420T032647
CREATED:20230320T124129Z
LAST-MODIFIED:20230321T134821Z
UID:139448-1687620600-1687629600@www.wightkarting.co.uk
SUMMARY:Open Team Endurance Race
DESCRIPTION:30min Practice / 1hr 30min Race – £150 per team – 3 Drivers per team \nRacing consists of a 30 minute practice followed by a 1hr 30min grid started race. \nThe Grid order will be set by the times set in the practice session. \nEach team will be required to make a minimum of 5 Driver changes during the race\, so a team of 3 drivers will get 2 stints on track each. \nFIND OUT MORE HERE\nBOOK HERE
URL:https://www.wightkarting.co.uk/event-details/open-team-endurance-race-4/
LOCATION:Wight Karting\, Brading Rd\, Ryde\, Isle of Wight\, PO33 1QS\, United Kingdom
CATEGORIES:'Open' Karting competition
ATTACH;FMTTYPE=image/jpeg:https://www.wightkarting.co.uk/wp-content/uploads/2023/03/Go-fast-or-go-home-WK622-108-scaled-1.jpg
ORGANIZER;CN="Mike Jolliffe":MAILTO:mikej@wightkarting.co.uk
END:VEVENT
BEGIN:VEVENT
DTSTART;TZID=UTC:20230602T090000
DTEND;TZID=UTC:20230602T111500
DTSTAMP:20260420T032647
CREATED:20230320T130558Z
LAST-MODIFIED:20230320T130558Z
UID:139485-1685696400-1685704500@www.wightkarting.co.uk
SUMMARY:Junior Track Days 8-15yr olds
DESCRIPTION:
URL:https://www.wightkarting.co.uk/event-details/junior-track-days-8-15yr-olds-15/
LOCATION:Wight Karting\, Brading Rd\, Ryde\, Isle of Wight\, PO33 1QS\, United Kingdom
CATEGORIES:Kids Track Days
ATTACH;FMTTYPE=image/webp:https://www.wightkarting.co.uk/wp-content/uploads/2023/01/Artboard-1-1.webp
ORGANIZER;CN="Wight Karting Team":MAILTO:info@wightkarting.co.uk
END:VEVENT
BEGIN:VEVENT
DTSTART;TZID=UTC:20230601T090000
DTEND;TZID=UTC:20230601T111500
DTSTAMP:20260420T032647
CREATED:20230320T130542Z
LAST-MODIFIED:20230320T130542Z
UID:139483-1685610000-1685618100@www.wightkarting.co.uk
SUMMARY:Junior Track Days 8-15yr olds
DESCRIPTION:
URL:https://www.wightkarting.co.uk/event-details/junior-track-days-8-15yr-olds-14/
LOCATION:Wight Karting\, Brading Rd\, Ryde\, Isle of Wight\, PO33 1QS\, United Kingdom
CATEGORIES:Kids Track Days
ATTACH;FMTTYPE=image/webp:https://www.wightkarting.co.uk/wp-content/uploads/2023/01/Artboard-1-1.webp
ORGANIZER;CN="Wight Karting Team":MAILTO:info@wightkarting.co.uk
END:VEVENT
BEGIN:VEVENT
DTSTART;TZID=UTC:20230531T090000
DTEND;TZID=UTC:20230531T111500
DTSTAMP:20260420T032647
CREATED:20230320T130526Z
LAST-MODIFIED:20230320T130526Z
UID:139481-1685523600-1685531700@www.wightkarting.co.uk
SUMMARY:Junior Track Days 8-15yr olds
DESCRIPTION:
URL:https://www.wightkarting.co.uk/event-details/junior-track-days-8-15yr-olds-13/
LOCATION:Wight Karting\, Brading Rd\, Ryde\, Isle of Wight\, PO33 1QS\, United Kingdom
CATEGORIES:Kids Track Days
ATTACH;FMTTYPE=image/webp:https://www.wightkarting.co.uk/wp-content/uploads/2023/01/Artboard-1-1.webp
ORGANIZER;CN="Wight Karting Team":MAILTO:info@wightkarting.co.uk
END:VEVENT
BEGIN:VEVENT
DTSTART;TZID=UTC:20230530T090000
DTEND;TZID=UTC:20230530T111500
DTSTAMP:20260420T032647
CREATED:20230320T130512Z
LAST-MODIFIED:20230320T130512Z
UID:139479-1685437200-1685445300@www.wightkarting.co.uk
SUMMARY:Junior Track Days 8-15yr olds
DESCRIPTION:
URL:https://www.wightkarting.co.uk/event-details/junior-track-days-8-15yr-olds-12/
LOCATION:Wight Karting\, Brading Rd\, Ryde\, Isle of Wight\, PO33 1QS\, United Kingdom
CATEGORIES:Kids Track Days
ATTACH;FMTTYPE=image/webp:https://www.wightkarting.co.uk/wp-content/uploads/2023/01/Artboard-1-1.webp
ORGANIZER;CN="Wight Karting Team":MAILTO:info@wightkarting.co.uk
END:VEVENT
BEGIN:VEVENT
DTSTART;TZID=UTC:20230529T090000
DTEND;TZID=UTC:20230529T111500
DTSTAMP:20260420T032647
CREATED:20230320T130457Z
LAST-MODIFIED:20230320T130457Z
UID:139477-1685350800-1685358900@www.wightkarting.co.uk
SUMMARY:Junior Track Days 8-15yr olds
DESCRIPTION:
URL:https://www.wightkarting.co.uk/event-details/junior-track-days-8-15yr-olds-11/
LOCATION:Wight Karting\, Brading Rd\, Ryde\, Isle of Wight\, PO33 1QS\, United Kingdom
CATEGORIES:Kids Track Days
ATTACH;FMTTYPE=image/webp:https://www.wightkarting.co.uk/wp-content/uploads/2023/01/Artboard-1-1.webp
ORGANIZER;CN="Wight Karting Team":MAILTO:info@wightkarting.co.uk
END:VEVENT
BEGIN:VEVENT
DTSTART;TZID=UTC:20230527T153000
DTEND;TZID=UTC:20230527T180000
DTSTAMP:20260420T032647
CREATED:20230320T124058Z
LAST-MODIFIED:20250102T181056Z
UID:139446-1685201400-1685210400@www.wightkarting.co.uk
SUMMARY:Open Team Endurance Race
DESCRIPTION:  \n30min Practice / 1hr 30min Race – £150 per team – 3 Drivers per team \nRacing consists of a 30 minute practice followed by a 1hr 30min grid started race. \nThe Grid order will be set by the times set in the practice session. \nEach team will be required to make a minimum of 5 Driver changes during the race\, so a team of 3 drivers will get 2 stints on track each.
URL:https://www.wightkarting.co.uk/event-details/open-team-endurance-race-3/
LOCATION:Wight Karting\, Brading Rd\, Ryde\, Isle of Wight\, PO33 1QS\, United Kingdom
CATEGORIES:'Open' Karting competition
ATTACH;FMTTYPE=image/jpeg:https://www.wightkarting.co.uk/wp-content/uploads/2023/03/Go-fast-or-go-home-WK622-108-scaled-1.jpg
ORGANIZER;CN="Mike Jolliffe":MAILTO:mikej@wightkarting.co.uk
END:VEVENT
BEGIN:VEVENT
DTSTART;TZID=UTC:20230429T153000
DTEND;TZID=UTC:20230429T180000
DTSTAMP:20260420T032647
CREATED:20230320T123831Z
LAST-MODIFIED:20230320T123939Z
UID:139438-1682782200-1682791200@www.wightkarting.co.uk
SUMMARY:Open Team Endurance Race
DESCRIPTION:30min Practice / 1hr 30min Race – £150 per team – 3 Drivers per team \nRacing consists of a 30 minute practice followed by a 1hr 30min grid started race. \nThe Grid order will be set by the times set in the practice session. \nEach team will be required to make a minimum of 5 Driver changes during the race\, so a team of 3 drivers will get 2 stints on track each.
URL:https://www.wightkarting.co.uk/event-details/open-team-endurance-race-2/
LOCATION:Wight Karting\, Brading Rd\, Ryde\, Isle of Wight\, PO33 1QS\, United Kingdom
CATEGORIES:'Open' Karting competition
ATTACH;FMTTYPE=image/jpeg:https://www.wightkarting.co.uk/wp-content/uploads/2023/03/Go-fast-or-go-home-WK622-108-scaled-1.jpg
ORGANIZER;CN="Mike Jolliffe":MAILTO:mikej@wightkarting.co.uk
END:VEVENT
BEGIN:VEVENT
DTSTART;TZID=UTC:20230414T090000
DTEND;TZID=UTC:20230414T111500
DTSTAMP:20260420T032647
CREATED:20230320T125726Z
LAST-MODIFIED:20230320T125726Z
UID:139472-1681462800-1681470900@www.wightkarting.co.uk
SUMMARY:Junior Track Days 8-15yr olds
DESCRIPTION:
URL:https://www.wightkarting.co.uk/event-details/junior-track-days-8-15yr-olds-10/
LOCATION:Wight Karting\, Brading Rd\, Ryde\, Isle of Wight\, PO33 1QS\, United Kingdom
CATEGORIES:Kids Track Days
ATTACH;FMTTYPE=image/webp:https://www.wightkarting.co.uk/wp-content/uploads/2023/01/Artboard-1-1.webp
ORGANIZER;CN="Wight Karting Team":MAILTO:info@wightkarting.co.uk
END:VEVENT
BEGIN:VEVENT
DTSTART;TZID=UTC:20230413T090000
DTEND;TZID=UTC:20230413T111500
DTSTAMP:20260420T032647
CREATED:20230320T125709Z
LAST-MODIFIED:20230320T125709Z
UID:139470-1681376400-1681384500@www.wightkarting.co.uk
SUMMARY:Junior Track Days 8-15yr olds
DESCRIPTION:
URL:https://www.wightkarting.co.uk/event-details/junior-track-days-8-15yr-olds-9/
LOCATION:Wight Karting\, Brading Rd\, Ryde\, Isle of Wight\, PO33 1QS\, United Kingdom
CATEGORIES:Kids Track Days
ATTACH;FMTTYPE=image/webp:https://www.wightkarting.co.uk/wp-content/uploads/2023/01/Artboard-1-1.webp
ORGANIZER;CN="Wight Karting Team":MAILTO:info@wightkarting.co.uk
END:VEVENT
BEGIN:VEVENT
DTSTART;TZID=UTC:20230412T090000
DTEND;TZID=UTC:20230412T111500
DTSTAMP:20260420T032647
CREATED:20230320T125651Z
LAST-MODIFIED:20230320T125651Z
UID:139468-1681290000-1681298100@www.wightkarting.co.uk
SUMMARY:Junior Track Days 8-15yr olds
DESCRIPTION:
URL:https://www.wightkarting.co.uk/event-details/junior-track-days-8-15yr-olds-8/
LOCATION:Wight Karting\, Brading Rd\, Ryde\, Isle of Wight\, PO33 1QS\, United Kingdom
CATEGORIES:Kids Track Days
ATTACH;FMTTYPE=image/webp:https://www.wightkarting.co.uk/wp-content/uploads/2023/01/Artboard-1-1.webp
ORGANIZER;CN="Wight Karting Team":MAILTO:info@wightkarting.co.uk
END:VEVENT
BEGIN:VEVENT
DTSTART;TZID=UTC:20230411T090000
DTEND;TZID=UTC:20230411T111500
DTSTAMP:20260420T032647
CREATED:20230320T125633Z
LAST-MODIFIED:20230320T125633Z
UID:139466-1681203600-1681211700@www.wightkarting.co.uk
SUMMARY:Junior Track Days 8-15yr olds
DESCRIPTION:
URL:https://www.wightkarting.co.uk/event-details/junior-track-days-8-15yr-olds-7/
LOCATION:Wight Karting\, Brading Rd\, Ryde\, Isle of Wight\, PO33 1QS\, United Kingdom
CATEGORIES:Kids Track Days
ATTACH;FMTTYPE=image/webp:https://www.wightkarting.co.uk/wp-content/uploads/2023/01/Artboard-1-1.webp
ORGANIZER;CN="Wight Karting Team":MAILTO:info@wightkarting.co.uk
END:VEVENT
BEGIN:VEVENT
DTSTART;TZID=UTC:20230410T090000
DTEND;TZID=UTC:20230410T111500
DTSTAMP:20260420T032647
CREATED:20230320T125619Z
LAST-MODIFIED:20230320T125619Z
UID:139464-1681117200-1681125300@www.wightkarting.co.uk
SUMMARY:Junior Track Days 8-15yr olds
DESCRIPTION:
URL:https://www.wightkarting.co.uk/event-details/junior-track-days-8-15yr-olds-6/
LOCATION:Wight Karting\, Brading Rd\, Ryde\, Isle of Wight\, PO33 1QS\, United Kingdom
CATEGORIES:Kids Track Days
ATTACH;FMTTYPE=image/webp:https://www.wightkarting.co.uk/wp-content/uploads/2023/01/Artboard-1-1.webp
ORGANIZER;CN="Wight Karting Team":MAILTO:info@wightkarting.co.uk
END:VEVENT
BEGIN:VEVENT
DTSTART;TZID=UTC:20230407T090000
DTEND;TZID=UTC:20230407T111500
DTSTAMP:20260420T032647
CREATED:20230320T125557Z
LAST-MODIFIED:20230320T125557Z
UID:139462-1680858000-1680866100@www.wightkarting.co.uk
SUMMARY:Junior Track Days 8-15yr olds
DESCRIPTION:
URL:https://www.wightkarting.co.uk/event-details/junior-track-days-8-15yr-olds-5/
LOCATION:Wight Karting\, Brading Rd\, Ryde\, Isle of Wight\, PO33 1QS\, United Kingdom
CATEGORIES:Kids Track Days
ATTACH;FMTTYPE=image/webp:https://www.wightkarting.co.uk/wp-content/uploads/2023/01/Artboard-1-1.webp
ORGANIZER;CN="Wight Karting Team":MAILTO:info@wightkarting.co.uk
END:VEVENT
BEGIN:VEVENT
DTSTART;TZID=UTC:20230406T090000
DTEND;TZID=UTC:20230406T111500
DTSTAMP:20260420T032647
CREATED:20230320T125533Z
LAST-MODIFIED:20230320T125533Z
UID:139460-1680771600-1680779700@www.wightkarting.co.uk
SUMMARY:Junior Track Days 8-15yr olds
DESCRIPTION:
URL:https://www.wightkarting.co.uk/event-details/junior-track-days-8-15yr-olds-4/
LOCATION:Wight Karting\, Brading Rd\, Ryde\, Isle of Wight\, PO33 1QS\, United Kingdom
CATEGORIES:Kids Track Days
ATTACH;FMTTYPE=image/webp:https://www.wightkarting.co.uk/wp-content/uploads/2023/01/Artboard-1-1.webp
ORGANIZER;CN="Wight Karting Team":MAILTO:info@wightkarting.co.uk
END:VEVENT
BEGIN:VEVENT
DTSTART;TZID=UTC:20230405T090000
DTEND;TZID=UTC:20230405T111500
DTSTAMP:20260420T032647
CREATED:20230320T125515Z
LAST-MODIFIED:20230320T125515Z
UID:139458-1680685200-1680693300@www.wightkarting.co.uk
SUMMARY:Junior Track Days 8-15yr olds
DESCRIPTION:
URL:https://www.wightkarting.co.uk/event-details/junior-track-days-8-15yr-olds-3/
LOCATION:Wight Karting\, Brading Rd\, Ryde\, Isle of Wight\, PO33 1QS\, United Kingdom
CATEGORIES:Kids Track Days
ATTACH;FMTTYPE=image/webp:https://www.wightkarting.co.uk/wp-content/uploads/2023/01/Artboard-1-1.webp
ORGANIZER;CN="Wight Karting Team":MAILTO:info@wightkarting.co.uk
END:VEVENT
BEGIN:VEVENT
DTSTART;TZID=UTC:20230404T090000
DTEND;TZID=UTC:20230404T111500
DTSTAMP:20260420T032647
CREATED:20230320T125502Z
LAST-MODIFIED:20230320T125502Z
UID:139456-1680598800-1680606900@www.wightkarting.co.uk
SUMMARY:Junior Track Days 8-15yr olds
DESCRIPTION:
URL:https://www.wightkarting.co.uk/event-details/junior-track-days-8-15yr-olds-2/
LOCATION:Wight Karting\, Brading Rd\, Ryde\, Isle of Wight\, PO33 1QS\, United Kingdom
CATEGORIES:Kids Track Days
ATTACH;FMTTYPE=image/webp:https://www.wightkarting.co.uk/wp-content/uploads/2023/01/Artboard-1-1.webp
ORGANIZER;CN="Wight Karting Team":MAILTO:info@wightkarting.co.uk
END:VEVENT
BEGIN:VEVENT
DTSTART;TZID=UTC:20230403T090000
DTEND;TZID=UTC:20230403T111500
DTSTAMP:20260420T032647
CREATED:20230320T125033Z
LAST-MODIFIED:20230320T125445Z
UID:139450-1680512400-1680520500@www.wightkarting.co.uk
SUMMARY:Junior Track Days 8-15yr olds
DESCRIPTION:
URL:https://www.wightkarting.co.uk/event-details/junior-track-days-8-15yr-olds/
LOCATION:Wight Karting\, Brading Rd\, Ryde\, Isle of Wight\, PO33 1QS\, United Kingdom
CATEGORIES:Kids Track Days
ATTACH;FMTTYPE=image/webp:https://www.wightkarting.co.uk/wp-content/uploads/2023/01/Artboard-1-1.webp
ORGANIZER;CN="Wight Karting Team":MAILTO:info@wightkarting.co.uk
END:VEVENT
BEGIN:VEVENT
DTSTART;VALUE=DATE:20230304
DTEND;VALUE=DATE:20230305
DTSTAMP:20260420T032647
CREATED:20230429T153019Z
LAST-MODIFIED:20230321T135120Z
UID:139352-1677888000-1677974399@www.wightkarting.co.uk
SUMMARY:Open Team Endurance Race
DESCRIPTION:30min Practice / 1hr 30min Race – £150 per team – 3 Drivers per team \nRacing consists of a 30 minute practice followed by a 1hr 30min grid started race. \nThe Grid order will be set by the times set in the practice session. \nEach team will be required to make a minimum of 5 Driver changes during the race\, so a team of 3 drivers will get 2 stints on track each.
URL:https://www.wightkarting.co.uk/event-details/open-team-endurance-race/
LOCATION:Westridge Centre\, Brading Rd\, Ryde\, Isle of Wight\, PO33 1QS\, United Kingdom
ATTACH;FMTTYPE=image/webp:https://www.wightkarting.co.uk/wp-content/uploads/2023/02/WKRKC-WINTER-SERIES-ROUND-4-PODIUM.webp
END:VEVENT
END:VCALENDAR